BEGIN:VCALENDAR
VERSION:2.0
PRODID:-//Compositive Primary - ECPv6.6.4.2//NONSGML v1.0//EN
CALSCALE:GREGORIAN
METHOD:PUBLISH
X-ORIGINAL-URL:https://compositiveprimary.org
X-WR-CALDESC:Events for Compositive Primary
REFRESH-INTERVAL;VALUE=DURATION:PT1H
X-Robots-Tag:noindex
X-PUBLISHED-TTL:PT1H
BEGIN:VTIMEZONE
TZID:America/Denver
BEGIN:DAYLIGHT
TZOFFSETFROM:-0700
TZOFFSETTO:-0600
TZNAME:MDT
DTSTART:20250309T090000
END:DAYLIGHT
BEGIN:STANDARD
TZOFFSETFROM:-0600
TZOFFSETTO:-0700
TZNAME:MST
DTSTART:20251102T080000
END:STANDARD
END:VTIMEZONE
BEGIN:VEVENT
DTSTART;TZID=America/Denver:20250317T080000
DTEND;TZID=America/Denver:20250319T160000
DTSTAMP:20260424T054543
CREATED:20250214T194820Z
LAST-MODIFIED:20250214T194820Z
UID:3469-1742198400-1742400000@compositiveprimary.org
SUMMARY:Scholastic Book Fair at Compositive Primary
DESCRIPTION:Celebrate National Reading Month any stop by our book sale for some new books!
URL:https://compositiveprimary.org/event/scholastic-book-fair-at-compositive-primary/
LOCATION:Compositive Primary\, 2345 North Ursula Street\, Denver\, CO\, 80045\, United States
ATTACH;FMTTYPE=image/png:https://compositiveprimary.org/wp-content/uploads/2025/02/Book-Fair-Volunteer-QR-Flier-2025-Instagram-Post.png
END:VEVENT
END:VCALENDAR